BEGIN:VCALENDAR
VERSION:2.0
PRODID:-//Hemisphere - ECPv6.15.20//NONSGML v1.0//EN
CALSCALE:GREGORIAN
METHOD:PUBLISH
X-WR-CALNAME:Hemisphere
X-ORIGINAL-URL:https://hemisphereorlando.com
X-WR-CALDESC:Events for Hemisphere
REFRESH-INTERVAL;VALUE=DURATION:PT1H
X-Robots-Tag:noindex
X-PUBLISHED-TTL:PT1H
BEGIN:VTIMEZONE
TZID:America/New_York
BEGIN:DAYLIGHT
TZOFFSETFROM:-0500
TZOFFSETTO:-0400
TZNAME:EDT
DTSTART:20240310T070000
END:DAYLIGHT
BEGIN:STANDARD
TZOFFSETFROM:-0400
TZOFFSETTO:-0500
TZNAME:EST
DTSTART:20241103T060000
END:STANDARD
BEGIN:DAYLIGHT
TZOFFSETFROM:-0500
TZOFFSETTO:-0400
TZNAME:EDT
DTSTART:20250309T070000
END:DAYLIGHT
BEGIN:STANDARD
TZOFFSETFROM:-0400
TZOFFSETTO:-0500
TZNAME:EST
DTSTART:20251102T060000
END:STANDARD
BEGIN:DAYLIGHT
TZOFFSETFROM:-0500
TZOFFSETTO:-0400
TZNAME:EDT
DTSTART:20260308T070000
END:DAYLIGHT
BEGIN:STANDARD
TZOFFSETFROM:-0400
TZOFFSETTO:-0500
TZNAME:EST
DTSTART:20261101T060000
END:STANDARD
END:VTIMEZONE
BEGIN:VEVENT
DTSTART;TZID=America/New_York:20250601T183000
DTEND;TZID=America/New_York:20250930T000000
DTSTAMP:20260422T103338
CREATED:20250604T191043Z
LAST-MODIFIED:20250604T191124Z
UID:1682-1748802600-1759190400@hemisphereorlando.com
SUMMARY:Book a Holiday Party
DESCRIPTION:GET READY TO SOAR INTO THE HOLIDAYS AT\nHEMISPHERE RESTAURANT!\nBook a Holiday Party between June 1 – September 30 \, 2025\nand Receive the Following:\nComplimentary Valet Parking\nWelcome Glass of House Champagne\nDiscounted Room Rate\nOne Complimentary Room Upgrade for Contact\nSeasonal Décor\nVotive Candles\nDouble World of Hyatt Points\nCall 407-825-1234 or email salesorlan@hyatt.com\n 
URL:https://hemisphereorlando.com/event/book-a-holiday-party/
ATTACH;FMTTYPE=image/jpeg:https://hemisphereorlando.com/wp-content/uploads/2025/06/Hemisphere-Holiday-Party-Flyer-2025-scaled.jpg
END:VEVENT
END:VCALENDAR