BEGIN:VCALENDAR
VERSION:2.0
PRODID:-//Hemisphere - ECPv6.15.20//NONSGML v1.0//EN
CALSCALE:GREGORIAN
METHOD:PUBLISH
X-WR-CALNAME:Hemisphere
X-ORIGINAL-URL:https://hemisphereorlando.com
X-WR-CALDESC:Events for Hemisphere
REFRESH-INTERVAL;VALUE=DURATION:PT1H
X-Robots-Tag:noindex
X-PUBLISHED-TTL:PT1H
BEGIN:VTIMEZONE
TZID:America/New_York
BEGIN:DAYLIGHT
TZOFFSETFROM:-0500
TZOFFSETTO:-0400
TZNAME:EDT
DTSTART:20240310T070000
END:DAYLIGHT
BEGIN:STANDARD
TZOFFSETFROM:-0400
TZOFFSETTO:-0500
TZNAME:EST
DTSTART:20241103T060000
END:STANDARD
BEGIN:DAYLIGHT
TZOFFSETFROM:-0500
TZOFFSETTO:-0400
TZNAME:EDT
DTSTART:20250309T070000
END:DAYLIGHT
BEGIN:STANDARD
TZOFFSETFROM:-0400
TZOFFSETTO:-0500
TZNAME:EST
DTSTART:20251102T060000
END:STANDARD
BEGIN:DAYLIGHT
TZOFFSETFROM:-0500
TZOFFSETTO:-0400
TZNAME:EDT
DTSTART:20260308T070000
END:DAYLIGHT
BEGIN:STANDARD
TZOFFSETFROM:-0400
TZOFFSETTO:-0500
TZNAME:EST
DTSTART:20261101T060000
END:STANDARD
BEGIN:DAYLIGHT
TZOFFSETFROM:-0500
TZOFFSETTO:-0400
TZNAME:EDT
DTSTART:20270314T070000
END:DAYLIGHT
BEGIN:STANDARD
TZOFFSETFROM:-0400
TZOFFSETTO:-0500
TZNAME:EST
DTSTART:20271107T060000
END:STANDARD
END:VTIMEZONE
BEGIN:VEVENT
DTSTART;TZID=America/New_York:20250619T170000
DTEND;TZID=America/New_York:20260619T183000
DTSTAMP:20260421T214113
CREATED:20250619T201508Z
LAST-MODIFIED:20260211T193417Z
UID:1697-1750352400-1781893800@hemisphereorlando.com
SUMMARY:Flight Time at Hemisphere - Happy Hours
DESCRIPTION:
URL:https://hemisphereorlando.com/event/flight-time-at-hemisphere/
ATTACH;FMTTYPE=image/jpeg:https://hemisphereorlando.com/wp-content/uploads/2025/06/Hemi-Happy-Hour-2.11.26-scaled.jpg
END:VEVENT
BEGIN:VEVENT
DTSTART;TZID=America/New_York:20260502T183000
DTEND;TZID=America/New_York:20260502T213000
DTSTAMP:20260421T214113
CREATED:20260402T231959Z
LAST-MODIFIED:20260402T232642Z
UID:2012-1777746600-1777757400@hemisphereorlando.com
SUMMARY:A Spirit and Culinary Tasting Event featuring Código 1530 Tequila
DESCRIPTION:Saturday\, May 2\, 2026\nReception starts at 6:30PM\, Dinner at 7:00PM\nCome experience a chef-inspired\, four-course meal paired with craft cocktails prepared with an award-winning ultra-premium tequila. Co-hosted by a Código Brand Ambassador who will detail the history and process of the brand while you sample the tastes our culinary and mixology teams have prepared.\nCourse 1\nSnapper Black Recado Ceviche\navocado\, cucumber\, pineapple\, habanero\nPaired with Cucumber Mint Margarita featuring Código 1530 Rosa\nCourse 2\nDuck Breast Mole\nprune\, orange\, pistachio\, scallion\nPaired with Dragon Fruit Blaze featuring Código 1530 Reposado\nCourse 3\nBirria Inspired Short Rib\npickled mustard seeds\, corn espuma\, jalapeño foam\nPaired with Crystal Agave Dream featuring Código 1530 Blanco\nCourse 4\nStrawberry and Hibiscus\nwhite chocolate\, cinnamon\, corn\nPaired with Smoky Horchata featuring Código 1530 Añejo \nThis will be an intimate event with limited seating available.\nFor reservations\, please e-mail rich.lenkiewicz@hyatt.com or book this experience on OpenTable\n$130 per person\, plus tax and gratuities\nComplimentary Valet Parking for all attendees
URL:https://hemisphereorlando.com/event/a-spirit-and-culinary-tasting-event-featuring-codigo-1530-tequila/
ATTACH;FMTTYPE=image/jpeg:https://hemisphereorlando.com/wp-content/uploads/2026/04/agave.jpg
END:VEVENT
END:VCALENDAR